BEGIN:VCALENDAR
VERSION:2.0
PRODID:-//wp-events-plugin.com//6.6.4.4//EN
TZID:Europe/Paris
X-WR-TIMEZONE:Europe/Paris
BEGIN:VEVENT
UID:481@esjcyclo.info
DTSTART;TZID=Europe/Paris;VALUE=DATE:20261010
DTEND;TZID=Europe/Paris;VALUE=DATE:20261012
DTSTAMP:20260127T112004Z
URL:https://www.esjcyclo.info/next/events/we-ventoux-3/
SUMMARY:WE Ventoux _ Buis les Baronnies
DESCRIPTION:
CATEGORIES:Week End
END:VEVENT
BEGIN:VTIMEZONE
TZID:Europe/Paris
X-LIC-LOCATION:Europe/Paris
BEGIN:DAYLIGHT
DTSTART:20260329T030000
TZOFFSETFROM:+0100
TZOFFSETTO:+0200
TZNAME:CEST
END:DAYLIGHT
END:VTIMEZONE
END:VCALENDAR