BEGIN:VCALENDAR
VERSION:2.0
PRODID:-//wp-events-plugin.com//6.6.4.4//EN
TZID:Europe/Paris
X-WR-TIMEZONE:Europe/Paris
BEGIN:VEVENT
UID:465@esjcyclo.info
DTSTART;TZID=Europe/Paris;VALUE=DATE:20260704
DTEND;TZID=Europe/Paris;VALUE=DATE:20260707
DTSTAMP:20251216T184206Z
URL:https://www.esjcyclo.info/next/events/we-montagne-st-chaffrey/
SUMMARY:WE Montagne St Chaffrey
DESCRIPTION:rdv Vendredi 04/7 soirée - Voir Fiche Jp COCHET\nParcours non 
 participants libre svt présents\nParcours 1 =&gt\; https://www.openrunne
 r.com/route-details/23041051\n\n&nbsp\;\n\nParcours 2 =&gt\; https://www.
 openrunner.com/route-details/23040996\n\n&nbsp\;\n\nParcours 3 =&gt\; htt
 ps://www.openrunner.com/route-details/21904338
CATEGORIES:Week End
END:VEVENT
BEGIN:VTIMEZONE
TZID:Europe/Paris
X-LIC-LOCATION:Europe/Paris
BEGIN:DAYLIGHT
DTSTART:20260329T030000
TZOFFSETFROM:+0100
TZOFFSETTO:+0200
TZNAME:CEST
END:DAYLIGHT
END:VTIMEZONE
END:VCALENDAR