BEGIN:VCALENDAR
VERSION:2.0
PRODID:-//wp-events-plugin.com//6.6.4.4//EN
TZID:Europe/Paris
X-WR-TIMEZONE:Europe/Paris
BEGIN:VEVENT
UID:458@esjcyclo.info
DTSTART;TZID=Europe/Paris:20260619T080000
DTEND;TZID=Europe/Paris:20260619T160000
DTSTAMP:20251216T141533Z
URL:https://www.esjcyclo.info/next/events/velo-ecole-du-haut/
SUMMARY:Vélo Ecole du Haut
DESCRIPTION:Date à confirmer
CATEGORIES:Vtt Gravel
END:VEVENT
BEGIN:VTIMEZONE
TZID:Europe/Paris
X-LIC-LOCATION:Europe/Paris
BEGIN:DAYLIGHT
DTSTART:20260329T030000
TZOFFSETFROM:+0100
TZOFFSETTO:+0200
TZNAME:CEST
END:DAYLIGHT
END:VTIMEZONE
END:VCALENDAR