BEGIN:VCALENDAR
VERSION:2.0
PRODID:-//wp-events-plugin.com//6.6.4.4//EN
TZID:Europe/Paris
X-WR-TIMEZONE:Europe/Paris
BEGIN:VEVENT
UID:477@esjcyclo.info
DTSTART;TZID=Europe/Paris:20260822T080000
DTEND;TZID=Europe/Paris:20260822T160000
DTSTAMP:20251219T184546Z
URL:https://www.esjcyclo.info/next/events/sl2026-05/
SUMMARY:SL2026-05
DESCRIPTION:SL2025-05 Vercors\n2 parcours proposés au départ de Pont en R
 oyans\n9h00 Parking stade Chemin du Rognon\n&nbsp\;\n\nParcours 150\n\nhtt
 ps://www.openrunner.com/route-details/23054467\n\n&nbsp\;\n\nParcours 106\
 n\nhttps://www.openrunner.com/route-details/23054518
CATEGORIES:Sortie journée
END:VEVENT
BEGIN:VTIMEZONE
TZID:Europe/Paris
X-LIC-LOCATION:Europe/Paris
BEGIN:DAYLIGHT
DTSTART:20260329T030000
TZOFFSETFROM:+0100
TZOFFSETTO:+0200
TZNAME:CEST
END:DAYLIGHT
END:VTIMEZONE
END:VCALENDAR