BEGIN:VCALENDAR
VERSION:2.0
PRODID:-//wp-events-plugin.com//6.6.4.4//EN
TZID:Europe/Paris
X-WR-TIMEZONE:Europe/Paris
BEGIN:VEVENT
UID:459@esjcyclo.info
DTSTART;TZID=Europe/Paris:20260620T093000
DTEND;TZID=Europe/Paris:20260620T160000
DTSTAMP:20251216T143426Z
URL:https://www.esjcyclo.info/next/events/sl2026-04-plateau-dhauteville/
SUMMARY:SL2026-04 Plateau d'Hauteville
DESCRIPTION:Sortie Longue Plateau de Hauteville\n2 parcours proposés au d
 épart de Hauteville Lompnes\nParking Aldi Chemin de Brochy Plateau d\nPen
 sez au covoiturage\nParcours 113/2750 =&gt\; https://www.openrunner.com/r
 oute-details/22601876\n\nParcours 72/1680 =&gt\; https://www.openrunner.c
 om/route-details/23021079
CATEGORIES:Sortie journée
END:VEVENT
BEGIN:VTIMEZONE
TZID:Europe/Paris
X-LIC-LOCATION:Europe/Paris
BEGIN:DAYLIGHT
DTSTART:20260329T030000
TZOFFSETFROM:+0100
TZOFFSETTO:+0200
TZNAME:CEST
END:DAYLIGHT
END:VTIMEZONE
END:VCALENDAR