BEGIN:VCALENDAR
VERSION:2.0
PRODID:-//wp-events-plugin.com//6.6.4.4//EN
TZID:Europe/Paris
X-WR-TIMEZONE:Europe/Paris
BEGIN:VEVENT
UID:440@esjcyclo.info
DTSTART;TZID=Europe/Paris:20260502T093000
DTEND;TZID=Europe/Paris:20260502T163000
DTSTAMP:20260210T155720Z
URL:https://www.esjcyclo.info/next/events/sl2026-03/
SUMMARY:SL2026-03
DESCRIPTION:Sortie Longue Beaujolais Vert\n2 Parcours proposés au départ 
 de Valsonne "Parking entrée du village"\nPensez au Covoiturage\nCe Beaujo
 lais vert\, est un paradis de verdure et de tranquillité où règnent les
  forêts de sapins. Ce terrain de jeu est une invitations pour les cyclist
 es amoureux de natures.\n\nVenez nombreux profiter de ces beaux paysages.\
 n\n&nbsp\;\n\nParcours 119/2300\n\nhttps://www.openrunner.com/route-detail
 s/22626036\n\n&nbsp\;\n\nParcours 90/1500\n\nhttps://www.openrunner.com/ro
 ute-details/23020885
CATEGORIES:Sortie journée
END:VEVENT
BEGIN:VTIMEZONE
TZID:Europe/Paris
X-LIC-LOCATION:Europe/Paris
BEGIN:DAYLIGHT
DTSTART:20260329T030000
TZOFFSETFROM:+0100
TZOFFSETTO:+0200
TZNAME:CEST
END:DAYLIGHT
END:VTIMEZONE
END:VCALENDAR