BEGIN:VCALENDAR
VERSION:2.0
PRODID:-//wp-events-plugin.com//6.6.4.4//EN
TZID:Europe/Paris
X-WR-TIMEZONE:Europe/Paris
BEGIN:VEVENT
UID:47@esjcyclo.info
DTSTART;TZID=Europe/Paris:20240330T083000
DTEND;TZID=Europe/Paris:20240330T150000
DTSTAMP:20240301T144632Z
URL:https://www.esjcyclo.info/next/events/sl2024_1/
SUMMARY:SL2024_1
DESCRIPTION:[sgpx gpx="/wp-content/uploads/gpx/SL2024_1 Dombes 100-18195421
 .gpx" download="true"  summary="true" summaryeleup="true"]\n\n[sgpx gpx="
 /wp-content/uploads/gpx/SL2024_1 Dombes 130-18195460.gpx" download="true"
   summary="true" summaryeleup="true"]\n\n[sgpx gpx="/wp-content/uploads/g
 px/SL2024_1 Dombes 160-18195500.gpx" download="true"  summary="true" summ
 aryeleup="true"]
CATEGORIES:Sortie journée
END:VEVENT
BEGIN:VTIMEZONE
TZID:Europe/Paris
X-LIC-LOCATION:Europe/Paris
BEGIN:STANDARD
DTSTART:20231029T020000
TZOFFSETFROM:+0200
TZOFFSETTO:+0100
TZNAME:CET
END:STANDARD
END:VTIMEZONE
END:VCALENDAR