BEGIN:VCALENDAR
VERSION:2.0
PRODID:-//wp-events-plugin.com//6.6.4.4//EN
TZID:Europe/Paris
X-WR-TIMEZONE:Europe/Paris
BEGIN:VEVENT
UID:509@esjcyclo.info
DTSTART;TZID=Europe/Paris:20260306T203000
DTEND;TZID=Europe/Paris:20260306T220000
DTSTAMP:20260224T123335Z
URL:https://www.esjcyclo.info/next/events/reunion-des-membres/
SUMMARY:Reunion des membres
DESCRIPTION:Maison de quartier
CATEGORIES:Reunion club
END:VEVENT
BEGIN:VTIMEZONE
TZID:Europe/Paris
X-LIC-LOCATION:Europe/Paris
BEGIN:STANDARD
DTSTART:20251026T020000
TZOFFSETFROM:+0200
TZOFFSETTO:+0100
TZNAME:CET
END:STANDARD
END:VTIMEZONE
END:VCALENDAR