BEGIN:VCALENDAR
VERSION:2.0
PRODID:-//wp-events-plugin.com//6.6.4.4//EN
TZID:Europe/Paris
X-WR-TIMEZONE:Europe/Paris
BEGIN:VEVENT
UID:467@esjcyclo.info
DTSTART;TZID=Europe/Paris:20260714T080000
DTEND;TZID=Europe/Paris:20260714T130000
DTSTAMP:20251216T185002Z
URL:https://www.esjcyclo.info/next/events/reconnaissane-gp-rallye/
SUMMARY:Reconnaissane GP Rallye 140
DESCRIPTION:https://www.openrunner.com/route-details/22957924
CATEGORIES:Sortie classique
END:VEVENT
BEGIN:VTIMEZONE
TZID:Europe/Paris
X-LIC-LOCATION:Europe/Paris
BEGIN:DAYLIGHT
DTSTART:20260329T030000
TZOFFSETFROM:+0100
TZOFFSETTO:+0200
TZNAME:CEST
END:DAYLIGHT
END:VTIMEZONE
END:VCALENDAR