BEGIN:VCALENDAR
VERSION:2.0
PRODID:-//wp-events-plugin.com//6.6.4.4//EN
TZID:Europe/Paris
X-WR-TIMEZONE:Europe/Paris
BEGIN:VEVENT
UID:462@esjcyclo.info
DTSTART;TZID=Europe/Paris:20260607T060000
DTEND;TZID=Europe/Paris:20260607T100000
DTSTAMP:20251216T152029Z
URL:https://www.esjcyclo.info/next/events/rallye-des-chats/
SUMMARY:Rallye des Chats
DESCRIPTION:Stade Villette 996 Route de Villette 69440 CHABANIERE\n\n&nbsp\
 ;\n\n40/70/100/130
CATEGORIES:Rallye
END:VEVENT
BEGIN:VTIMEZONE
TZID:Europe/Paris
X-LIC-LOCATION:Europe/Paris
BEGIN:DAYLIGHT
DTSTART:20260329T030000
TZOFFSETFROM:+0100
TZOFFSETTO:+0200
TZNAME:CEST
END:DAYLIGHT
END:VTIMEZONE
END:VCALENDAR