BEGIN:VCALENDAR
VERSION:2.0
PRODID:-//wp-events-plugin.com//6.6.4.4//EN
TZID:Europe/Paris
X-WR-TIMEZONE:Europe/Paris
BEGIN:VEVENT
UID:434@esjcyclo.info
DTSTART;TZID=Europe/Paris:20260425T073000
DTEND;TZID=Europe/Paris:20260425T140000
DTSTAMP:20251216T091115Z
URL:https://www.esjcyclo.info/next/events/rallye-de-genas-2/
SUMMARY:Rallye de Genas
DESCRIPTION:Salle Polyvalente\, 2 Rue de la Fraternité\n\n78/700\n\nhttps:
 //www.openrunner.com/route-details/11135222\n\n108/1000\n\nhttps://www.ope
 nrunner.com/route-details/16165589\n\n140/1800 départ "7h30"\n\nhttps://w
 ww.openrunner.com/route-details/16165499\n\n&nbsp\;
CATEGORIES:Rallye
END:VEVENT
BEGIN:VTIMEZONE
TZID:Europe/Paris
X-LIC-LOCATION:Europe/Paris
BEGIN:DAYLIGHT
DTSTART:20260329T030000
TZOFFSETFROM:+0100
TZOFFSETTO:+0200
TZNAME:CEST
END:DAYLIGHT
END:VTIMEZONE
END:VCALENDAR