BEGIN:VCALENDAR
VERSION:2.0
PRODID:-//wp-events-plugin.com//6.6.4.4//EN
TZID:Europe/Paris
X-WR-TIMEZONE:Europe/Paris
BEGIN:VEVENT
UID:463@esjcyclo.info
DTSTART;TZID=Europe/Paris:20260613T070000
DTEND;TZID=Europe/Paris:20260613T100000
DTSTAMP:20251216T152245Z
URL:https://www.esjcyclo.info/next/events/rallye-de-chassieu-2/
SUMMARY:Rallye de Chassieu
DESCRIPTION:Boulodrome\, 11 Chemin de Trêve - CHASSIEU\n\n45/416\n\n82/803
 \n\n124/1300\n\n130/1500
CATEGORIES:Rallye
END:VEVENT
BEGIN:VTIMEZONE
TZID:Europe/Paris
X-LIC-LOCATION:Europe/Paris
BEGIN:DAYLIGHT
DTSTART:20260329T030000
TZOFFSETFROM:+0100
TZOFFSETTO:+0200
TZNAME:CEST
END:DAYLIGHT
END:VTIMEZONE
END:VCALENDAR