BEGIN:VCALENDAR
VERSION:2.0
PRODID:-//wp-events-plugin.com//6.6.4.4//EN
TZID:Europe/Paris
X-WR-TIMEZONE:Europe/Paris
BEGIN:VEVENT
UID:471@esjcyclo.info
DTSTART;TZID=Europe/Paris:20260726T070000
DTEND;TZID=Europe/Paris:20260726T120000
DTSTAMP:20251216T191529Z
URL:https://www.esjcyclo.info/next/events/matineee-en-terre-brouilly/
SUMMARY:Matinéee en Terre Brouilly
DESCRIPTION:Matinées cyclistes 5 Route 578 rte des Brouilly - ST LAGER\nLe
 s bénévoles du CT FORMIDABLE offrent un ravitaillement bien mérité à 
 chaque passage au sommet jusqu'à 12h00\n\n&nbsp\;
CATEGORIES:Rallye
END:VEVENT
BEGIN:VTIMEZONE
TZID:Europe/Paris
X-LIC-LOCATION:Europe/Paris
BEGIN:DAYLIGHT
DTSTART:20260329T030000
TZOFFSETFROM:+0100
TZOFFSETTO:+0200
TZNAME:CEST
END:DAYLIGHT
END:VTIMEZONE
END:VCALENDAR