BEGIN:VCALENDAR
VERSION:2.0
PRODID:-//wp-events-plugin.com//6.6.4.4//EN
TZID:Europe/Paris
X-WR-TIMEZONE:Europe/Paris
BEGIN:VEVENT
UID:470@esjcyclo.info
DTSTART;TZID=Europe/Paris:20260714T070000
DTEND;TZID=Europe/Paris:20260714T100000
DTSTAMP:20251216T190312Z
URL:https://www.esjcyclo.info/next/events/la-villardoise-2/
SUMMARY:La Villardoise
DESCRIPTION:Salle polyvalente Villars les Dombes\n30\n\n60\n\n100\n\n130
CATEGORIES:Rallye
END:VEVENT
BEGIN:VTIMEZONE
TZID:Europe/Paris
X-LIC-LOCATION:Europe/Paris
BEGIN:DAYLIGHT
DTSTART:20260329T030000
TZOFFSETFROM:+0100
TZOFFSETTO:+0200
TZNAME:CEST
END:DAYLIGHT
END:VTIMEZONE
END:VCALENDAR