BEGIN:VCALENDAR
VERSION:2.0
PRODID:-//wp-events-plugin.com//6.6.4.4//EN
TZID:Europe/Paris
X-WR-TIMEZONE:Europe/Paris
BEGIN:VEVENT
UID:452@esjcyclo.info
DTSTART;TZID=Europe/Paris:20260517T070000
DTEND;TZID=Europe/Paris:20260517T100000
DTSTAMP:20251216T132852Z
URL:https://www.esjcyclo.info/next/events/la-valromeysanne/
SUMMARY:La Valromeysanne
DESCRIPTION:3 Pl. Brillat Savarin Champagne en Valromey\n\n30/500\n\n70/100
 0\n\n90/1800\n\n110/2150
CATEGORIES:Rallye
END:VEVENT
BEGIN:VTIMEZONE
TZID:Europe/Paris
X-LIC-LOCATION:Europe/Paris
BEGIN:DAYLIGHT
DTSTART:20260329T030000
TZOFFSETFROM:+0100
TZOFFSETTO:+0200
TZNAME:CEST
END:DAYLIGHT
END:VTIMEZONE
END:VCALENDAR