BEGIN:VCALENDAR
VERSION:2.0
PRODID:-//wp-events-plugin.com//6.6.4.4//EN
TZID:Europe/Paris
X-WR-TIMEZONE:Europe/Paris
BEGIN:VEVENT
UID:476@esjcyclo.info
DTSTART;TZID=Europe/Paris:20260808T074500
DTEND;TZID=Europe/Paris:20260808T150000
DTSTAMP:20251217T185030Z
URL:https://www.esjcyclo.info/next/events/gd-colombier-2/
SUMMARY:Gd Colombier
DESCRIPTION:Grand Colombier par Lochieu\nRDV BELLEY pour départ Parking Ca
 rrefour 7h45\n&nbsp\;\n\nhttps://www.openrunner.com/route-details/21166389
CATEGORIES:Sortie journée
END:VEVENT
BEGIN:VTIMEZONE
TZID:Europe/Paris
X-LIC-LOCATION:Europe/Paris
BEGIN:DAYLIGHT
DTSTART:20260329T030000
TZOFFSETFROM:+0100
TZOFFSETTO:+0200
TZNAME:CEST
END:DAYLIGHT
END:VTIMEZONE
END:VCALENDAR