BEGIN:VCALENDAR
VERSION:2.0
PRODID:-//wp-events-plugin.com//6.6.4.4//EN
TZID:Europe/Paris
X-WR-TIMEZONE:Europe/Paris
BEGIN:VEVENT
UID:78@esjcyclo.info
DTSTART;TZID=Europe/Paris:20240229T133000
DTEND;TZID=Europe/Paris:20240229T170000
DTSTAMP:20240228T110743Z
URL:https://www.esjcyclo.info/next/events/e-85-750/
SUMMARY:E-85-750
DESCRIPTION:Tiré du ACh-85-850
CATEGORIES:Sortie classique
END:VEVENT
BEGIN:VTIMEZONE
TZID:Europe/Paris
X-LIC-LOCATION:Europe/Paris
BEGIN:STANDARD
DTSTART:20231029T020000
TZOFFSETFROM:+0200
TZOFFSETTO:+0100
TZNAME:CET
END:STANDARD
END:VTIMEZONE
END:VCALENDAR