BEGIN:VCALENDAR
VERSION:2.0
PRODID:-//wp-events-plugin.com//6.6.4.4//EN
TZID:Europe/Paris
X-WR-TIMEZONE:Europe/Paris
BEGIN:VEVENT
UID:528@esjcyclo.info
DTSTART;TZID=Europe/Paris:20260423T133000
DTEND;TZID=Europe/Paris:20260423T173000
DTSTAMP:20260422T154310Z
URL:https://www.esjcyclo.info/next/events/e-82-600/
SUMMARY:E-82-600
DESCRIPTION:https://www.openrunner.com/route-details/19928184
CATEGORIES:Sortie classique
END:VEVENT
BEGIN:VTIMEZONE
TZID:Europe/Paris
X-LIC-LOCATION:Europe/Paris
BEGIN:DAYLIGHT
DTSTART:20260329T030000
TZOFFSETFROM:+0100
TZOFFSETTO:+0200
TZNAME:CEST
END:DAYLIGHT
END:VTIMEZONE
END:VCALENDAR