BEGIN:VCALENDAR
VERSION:2.0
PRODID:-//wp-events-plugin.com//6.6.4.4//EN
TZID:Europe/Paris
X-WR-TIMEZONE:Europe/Paris
BEGIN:VEVENT
UID:445@esjcyclo.info
DTSTART;TZID=Europe/Paris;VALUE=DATE:20260523
DTEND;TZID=Europe/Paris;VALUE=DATE:20260526
DTSTAMP:20260208T181136Z
URL:https://www.esjcyclo.info/next/events/brevet/
SUMMARY:Brevet
DESCRIPTION:BREVET/3jrs à Prénovel JURA\nVoir fiche JpCOCHET\nParcours Sa
 medi\n\n152/2500   https://www.openrunner.com/route-details/22073059\n\n
 135/1850   https://www.openrunner.com/route-details/22612231\n\n&nbsp\;\
 n\nParcours Dimanche\n\n92/1360    https://www.openrunner.com/route-deta
 ils/22075180\n\n&nbsp\;\n\nParcours Retour\n\nGr.1 et 2 = 168=2600 https:/
 /www.openrunner.com/route-details/22612718\n\nGr.3 = 150/1900\n\nhttps://w
 ww.openrunner.com/route-details/22094914
CATEGORIES:Week End
END:VEVENT
BEGIN:VTIMEZONE
TZID:Europe/Paris
X-LIC-LOCATION:Europe/Paris
BEGIN:DAYLIGHT
DTSTART:20260329T030000
TZOFFSETFROM:+0100
TZOFFSETTO:+0200
TZNAME:CEST
END:DAYLIGHT
END:VTIMEZONE
END:VCALENDAR