BEGIN:VCALENDAR
VERSION:2.0
PRODID:-//wp-events-plugin.com//6.6.4.4//EN
TZID:Europe/Paris
X-WR-TIMEZONE:Europe/Paris
BEGIN:VEVENT
UID:448@esjcyclo.info
DTSTART;TZID=Europe/Paris:20260508T063000
DTEND;TZID=Europe/Paris:20260508T100000
DTSTAMP:20251216T131112Z
URL:https://www.esjcyclo.info/next/events/bresse-bugey-2/
SUMMARY:Bresse Bugey
DESCRIPTION:Gymnase Ch. de la Craz 01250 Montagnat Ceyzériat\n\n60/350\n\n
 80/800\n\n100/1400\n\n120/1800
CATEGORIES:Rallye
END:VEVENT
BEGIN:VTIMEZONE
TZID:Europe/Paris
X-LIC-LOCATION:Europe/Paris
BEGIN:DAYLIGHT
DTSTART:20260329T030000
TZOFFSETFROM:+0100
TZOFFSETTO:+0200
TZNAME:CEST
END:DAYLIGHT
END:VTIMEZONE
END:VCALENDAR