BEGIN:VCALENDAR
VERSION:2.0
PRODID:-//wp-events-plugin.com//6.6.4.4//EN
TZID:Europe/Paris
X-WR-TIMEZONE:Europe/Paris
BEGIN:VEVENT
UID:495@esjcyclo.info
DTSTART;TZID=Europe/Paris:20260926T080000
DTEND;TZID=Europe/Paris:20260926T120000
DTSTAMP:20251219T204429Z
URL:https://www.esjcyclo.info/next/events/b035-5/
SUMMARY:B035
DESCRIPTION:[sgpx gpx="/wp-content/uploads/gpx/B035-17663790.gpx" download=
 "true"  summary="true" summaryeleup="true"]
END:VEVENT
BEGIN:VTIMEZONE
TZID:Europe/Paris
X-LIC-LOCATION:Europe/Paris
BEGIN:DAYLIGHT
DTSTART:20260329T030000
TZOFFSETFROM:+0100
TZOFFSETTO:+0200
TZNAME:CEST
END:DAYLIGHT
END:VTIMEZONE
END:VCALENDAR