BEGIN:VCALENDAR
VERSION:2.0
PRODID:-//wp-events-plugin.com//6.6.4.4//EN
TZID:Europe/Paris
X-WR-TIMEZONE:Europe/Paris
BEGIN:VEVENT
UID:479@esjcyclo.info
DTSTART;TZID=Europe/Paris:20260912T080000
DTEND;TZID=Europe/Paris:20260912T120000
DTSTAMP:20251217T190012Z
URL:https://www.esjcyclo.info/next/events/b027-inv/
SUMMARY:B027 inv
DESCRIPTION:[sgpx gpx="/wp-content/uploads/gpx/B027inv-16796223.gpx" downlo
 ad="true"  summary="true" summaryeleup="true"]
CATEGORIES:Sortie classique
END:VEVENT
BEGIN:VTIMEZONE
TZID:Europe/Paris
X-LIC-LOCATION:Europe/Paris
BEGIN:DAYLIGHT
DTSTART:20260329T030000
TZOFFSETFROM:+0100
TZOFFSETTO:+0200
TZNAME:CEST
END:DAYLIGHT
END:VTIMEZONE
END:VCALENDAR