BEGIN:VCALENDAR
VERSION:2.0
PRODID:-//wp-events-plugin.com//6.6.4.4//EN
TZID:Europe/Paris
X-WR-TIMEZONE:Europe/Paris
BEGIN:VEVENT
UID:488@esjcyclo.info
DTSTART;TZID=Europe/Paris:20261114T133000
DTEND;TZID=Europe/Paris:20261114T170000
DTSTAMP:20251219T201823Z
URL:https://www.esjcyclo.info/next/events/b019-3/
SUMMARY:B019
DESCRIPTION:[sgpx gpx="/wp-content/uploads/gpx/B019-16865346.gpx" download=
 "true"  summary="true" summaryeleup="true"]
CATEGORIES:Sortie classique
END:VEVENT
BEGIN:VTIMEZONE
TZID:Europe/Paris
X-LIC-LOCATION:Europe/Paris
BEGIN:STANDARD
DTSTART:20261025T020000
TZOFFSETFROM:+0200
TZOFFSETTO:+0100
TZNAME:CET
END:STANDARD
END:VTIMEZONE
END:VCALENDAR