BEGIN:VCALENDAR
VERSION:2.0
PRODID:-//wp-events-plugin.com//6.6.4.4//EN
TZID:Europe/Paris
X-WR-TIMEZONE:Europe/Paris
BEGIN:VEVENT
UID:485@esjcyclo.info
DTSTART;TZID=Europe/Paris:20261024T133000
DTEND;TZID=Europe/Paris:20261024T170000
DTSTAMP:20251219T200940Z
URL:https://www.esjcyclo.info/next/events/b018-4/
SUMMARY:B018
DESCRIPTION:[sgpx gpx="/wp-content/uploads/gpx/B018-16865027.gpx" download=
 "true"  summary="true" summaryeleup="true"]
CATEGORIES:Sortie classique
END:VEVENT
BEGIN:VTIMEZONE
TZID:Europe/Paris
X-LIC-LOCATION:Europe/Paris
BEGIN:DAYLIGHT
DTSTART:20260329T030000
TZOFFSETFROM:+0100
TZOFFSETTO:+0200
TZNAME:CEST
END:DAYLIGHT
END:VTIMEZONE
END:VCALENDAR