BEGIN:VCALENDAR
VERSION:2.0
PRODID:-//wp-events-plugin.com//6.6.4.4//EN
TZID:Europe/Paris
X-WR-TIMEZONE:Europe/Paris
BEGIN:VEVENT
UID:296@esjcyclo.info
DTSTART;TZID=Europe/Paris:20250503T133000
DTEND;TZID=Europe/Paris:20250503T170000
DTSTAMP:20250418T114949Z
URL:https://www.esjcyclo.info/next/events/b014/
SUMMARY:B014
DESCRIPTION:[sgpx gpx="/wp-content/uploads/gpx/B014-16864073.gpx" download=
 "true"  summary="true" summaryeleup="true"]
CATEGORIES:Sortie classique
END:VEVENT
BEGIN:VTIMEZONE
TZID:Europe/Paris
X-LIC-LOCATION:Europe/Paris
BEGIN:DAYLIGHT
DTSTART:20250330T030000
TZOFFSETFROM:+0100
TZOFFSETTO:+0200
TZNAME:CEST
END:DAYLIGHT
END:VTIMEZONE
END:VCALENDAR