BEGIN:VCALENDAR
VERSION:2.0
PRODID:-//wp-events-plugin.com//6.6.4.4//EN
TZID:Europe/Paris
X-WR-TIMEZONE:Europe/Paris
BEGIN:VEVENT
UID:475@esjcyclo.info
DTSTART;TZID=Europe/Paris:20260829T080000
DTEND;TZID=Europe/Paris:20260829T150000
DTSTAMP:20251217T183604Z
URL:https://www.esjcyclo.info/next/events/b003-mod-2/
SUMMARY:B003 mod
DESCRIPTION:[sgpx gpx="/wp-content/uploads/gpx/B003mod-16863479.gpx" downlo
 ad="true"  summary="true" summaryeleup="true"]
CATEGORIES:Sortie journée
END:VEVENT
BEGIN:VTIMEZONE
TZID:Europe/Paris
X-LIC-LOCATION:Europe/Paris
BEGIN:DAYLIGHT
DTSTART:20260329T030000
TZOFFSETFROM:+0100
TZOFFSETTO:+0200
TZNAME:CEST
END:DAYLIGHT
END:VTIMEZONE
END:VCALENDAR