BEGIN:VCALENDAR
VERSION:2.0
PRODID:-//wp-events-plugin.com//6.6.4.4//EN
TZID:Europe/Paris
X-WR-TIMEZONE:Europe/Paris
BEGIN:VEVENT
UID:490@esjcyclo.info
DTSTART;TZID=Europe/Paris:20261128T133000
DTEND;TZID=Europe/Paris:20261128T170000
DTSTAMP:20251219T202105Z
URL:https://www.esjcyclo.info/next/events/a010-5/
SUMMARY:A010
DESCRIPTION:[sgpx gpx="/wp-content/uploads/gpx/A010-16813564.gpx" download=
 "true"  summary="true" summaryeleup="true"]
CATEGORIES:Sortie classique
END:VEVENT
BEGIN:VTIMEZONE
TZID:Europe/Paris
X-LIC-LOCATION:Europe/Paris
BEGIN:STANDARD
DTSTART:20261025T020000
TZOFFSETFROM:+0200
TZOFFSETTO:+0100
TZNAME:CET
END:STANDARD
END:VTIMEZONE
END:VCALENDAR