BEGIN:VCALENDAR
VERSION:2.0
PRODID:-//wp-events-plugin.com//6.6.4.4//EN
TZID:Europe/Paris
X-WR-TIMEZONE:Europe/Paris
BEGIN:VEVENT
UID:494@esjcyclo.info
DTSTART;TZID=Europe/Paris:20261226T000000
DTEND;TZID=Europe/Paris:20261226T000000
DTSTAMP:20251219T203501Z
URL:https://www.esjcyclo.info/next/events/a002-5/
SUMMARY:A002
DESCRIPTION:[sgpx gpx="/wp-content/uploads/gpx/A002-16805850.gpx" download=
 "true"  summary="true" summaryeleup="true"]
CATEGORIES:Sortie classique
END:VEVENT
BEGIN:VTIMEZONE
TZID:Europe/Paris
X-LIC-LOCATION:Europe/Paris
BEGIN:STANDARD
DTSTART:20261025T020000
TZOFFSETFROM:+0200
TZOFFSETTO:+0100
TZNAME:CET
END:STANDARD
END:VTIMEZONE
END:VCALENDAR