BEGIN:VCALENDAR
VERSION:2.0
PRODID:-//wp-events-plugin.com//6.6.4.4//EN
TZID:Europe/Paris
X-WR-TIMEZONE:Europe/Paris
BEGIN:VEVENT
UID:30@esjcyclo.info
DTSTART;TZID=Europe/Paris:20240120T130000
DTEND;TZID=Europe/Paris:20240120T163000
DTSTAMP:20240113T210055Z
URL:https://www.esjcyclo.info/next/events/a001mod/
SUMMARY:A001mod
DESCRIPTION:[sgpx gpx="/wp-content/uploads/gpx/A001mod-16805280.gpx" downlo
 ad="true"  summary="true" summaryeleup="true"]
CATEGORIES:Sortie classique
END:VEVENT
BEGIN:VTIMEZONE
TZID:Europe/Paris
X-LIC-LOCATION:Europe/Paris
BEGIN:STANDARD
DTSTART:20231029T020000
TZOFFSETFROM:+0200
TZOFFSETTO:+0100
TZNAME:CET
END:STANDARD
END:VTIMEZONE
END:VCALENDAR