BEGIN:VCALENDAR
VERSION:2.0
PRODID:-//wp-events-plugin.com//6.6.4.4//EN
TZID:Europe/Paris
X-WR-TIMEZONE:Europe/Paris
BEGIN:VEVENT
UID:453@esjcyclo.info
DTSTART;TZID=Europe/Paris:20260517T070000
DTEND;TZID=Europe/Paris:20260517T100000
DTSTAMP:20251216T133128Z
URL:https://www.esjcyclo.info/next/events/42eme-rallye-ami-cyclo-2/
SUMMARY:42ème rallye Ami Cyclo
DESCRIPTION:194 Av du Dct Bollet TREVOUX _ Le bas Port\n\n30/110\n\n63/700\
 n\n82/900\n\n100/1375
CATEGORIES:Rallye
END:VEVENT
BEGIN:VTIMEZONE
TZID:Europe/Paris
X-LIC-LOCATION:Europe/Paris
BEGIN:DAYLIGHT
DTSTART:20260329T030000
TZOFFSETFROM:+0100
TZOFFSETTO:+0200
TZNAME:CEST
END:DAYLIGHT
END:VTIMEZONE
END:VCALENDAR